BEGIN:VCALENDAR
VERSION:2.0
PRODID:-//Rutgers Office of Climate Action - ECPv6.15.20//NONSGML v1.0//EN
CALSCALE:GREGORIAN
METHOD:PUBLISH
X-ORIGINAL-URL:https://climateaction.rutgers.edu
X-WR-CALDESC:Events for Rutgers Office of Climate Action
REFRESH-INTERVAL;VALUE=DURATION:PT1H
X-Robots-Tag:noindex
X-PUBLISHED-TTL:PT1H
BEGIN:VTIMEZONE
TZID:America/New_York
BEGIN:DAYLIGHT
TZOFFSETFROM:-0500
TZOFFSETTO:-0400
TZNAME:EDT
DTSTART:20250309T070000
END:DAYLIGHT
BEGIN:STANDARD
TZOFFSETFROM:-0400
TZOFFSETTO:-0500
TZNAME:EST
DTSTART:20251102T060000
END:STANDARD
BEGIN:DAYLIGHT
TZOFFSETFROM:-0500
TZOFFSETTO:-0400
TZNAME:EDT
DTSTART:20260308T070000
END:DAYLIGHT
BEGIN:STANDARD
TZOFFSETFROM:-0400
TZOFFSETTO:-0500
TZNAME:EST
DTSTART:20261101T060000
END:STANDARD
BEGIN:DAYLIGHT
TZOFFSETFROM:-0500
TZOFFSETTO:-0400
TZNAME:EDT
DTSTART:20270314T070000
END:DAYLIGHT
BEGIN:STANDARD
TZOFFSETFROM:-0400
TZOFFSETTO:-0500
TZNAME:EST
DTSTART:20271107T060000
END:STANDARD
END:VTIMEZONE
BEGIN:VEVENT
DTSTART;TZID=America/New_York:20260418T113000
DTEND;TZID=America/New_York:20260418T133000
DTSTAMP:20260420T212207
CREATED:20260403T141750Z
LAST-MODIFIED:20260403T141750Z
UID:2010-1776511800-1776519000@climateaction.rutgers.edu
SUMMARY:River Fest
DESCRIPTION:Hey Rutgers students!\nAre you looking for volunteer hours? Then look no further than River Fest: an event hosted by the Rutgers Office of Climate Action Sustainability Ambassadors on April 18th\, 11:30 AM-1:30 PM. \nWe will clean up Boyd Park while learning about the importance of watersheds and giving back to our local community. After the clean-up\, we will be having a picnic (food is provided) and music.\nIf you are interested in coming\, please fill out our interest form (see the QR). Hope to see you there!
URL:https://climateaction.rutgers.edu/event/river-fest/
LOCATION:Boyd Park
ATTACH;FMTTYPE=image/jpeg:https://climateaction.rutgers.edu/wp-content/uploads/2026/04/RIverFest-Cleanup.jpg
ORGANIZER;CN="Rutgers Office of Climate Action":MAILTO:climateaction@rutgers.edu
END:VEVENT
END:VCALENDAR