BEGIN:VCALENDAR
VERSION:2.0
PRODID:-//Rutgers Office of Climate Action - ECPv6.15.20//NONSGML v1.0//EN
CALSCALE:GREGORIAN
METHOD:PUBLISH
X-ORIGINAL-URL:https://climateaction.rutgers.edu
X-WR-CALDESC:Events for Rutgers Office of Climate Action
REFRESH-INTERVAL;VALUE=DURATION:PT1H
X-Robots-Tag:noindex
X-PUBLISHED-TTL:PT1H
BEGIN:VTIMEZONE
TZID:America/New_York
BEGIN:DAYLIGHT
TZOFFSETFROM:-0500
TZOFFSETTO:-0400
TZNAME:EDT
DTSTART:20230312T070000
END:DAYLIGHT
BEGIN:STANDARD
TZOFFSETFROM:-0400
TZOFFSETTO:-0500
TZNAME:EST
DTSTART:20231105T060000
END:STANDARD
BEGIN:DAYLIGHT
TZOFFSETFROM:-0500
TZOFFSETTO:-0400
TZNAME:EDT
DTSTART:20240310T070000
END:DAYLIGHT
BEGIN:STANDARD
TZOFFSETFROM:-0400
TZOFFSETTO:-0500
TZNAME:EST
DTSTART:20241103T060000
END:STANDARD
BEGIN:DAYLIGHT
TZOFFSETFROM:-0500
TZOFFSETTO:-0400
TZNAME:EDT
DTSTART:20250309T070000
END:DAYLIGHT
BEGIN:STANDARD
TZOFFSETFROM:-0400
TZOFFSETTO:-0500
TZNAME:EST
DTSTART:20251102T060000
END:STANDARD
END:VTIMEZONE
BEGIN:VEVENT
DTSTART;TZID=America/New_York:20240416T120000
DTEND;TZID=America/New_York:20240416T160000
DTSTAMP:20260424T015409
CREATED:20240319T000456Z
LAST-MODIFIED:20240415T152541Z
UID:802-1713268800-1713283200@climateaction.rutgers.edu
SUMMARY:Spring Cleaning Clothing Swap
DESCRIPTION:Join the OCA Sustainability Ambassadors and RU Thrifty for an Earth Month Clothing Swap! Bring what you don’t wear and swap out for something new to you.
URL:https://climateaction.rutgers.edu/event/clothing-swap/
LOCATION:Livingston Student Center – Plaza\, 84 Joyce Kilmer Ave\, Piscataway\, NJ\, 08854\, United States
END:VEVENT
END:VCALENDAR